BEGIN:VCALENDAR
VERSION:2.0
PRODID:-//Bard College//Calendars//EN
BEGIN:VTIMEZONE
TZID:America/New_York
X-LIC-LOCATION:America/New_York
BEGIN:DAYLIGHT
TZOFFSETFROM:-0500
TZOFFSETTO:-0400
TZNAME:EDT
DTSTART:19700308T020000
RRULE:FREQ=YEARLY;BYMONTH=3;BYDAY=2SU
END:DAYLIGHT
BEGIN:STANDARD
TZOFFSETFROM:-0400
TZOFFSETTO:-0500
TZNAME:EST
DTSTART:19701101T020000
RRULE:FREQ=YEARLY;BYMONTH=11;BYDAY=1SU
END:STANDARD
END:VTIMEZONE
BEGIN:VEVENT
UID:140162_1776830400_calendar@www.bard.edu
DTSTART;TZID=America/New_York:20260422T120000
DTEND;TZID=America/New_York:20260422T130000
CATEGORIES:Language Table/Division of Languages and Literature/Asian Studies Program/Division of Languages and Literature
SUMMARY:Japanese Table
DESCRIPTION:Please join us weekly. Stay for as long as you like.\nLanguage tables are held at Kline and entail about an hour of casual discussion during meal times, where students interested in a language get to know each other and practice colloquial conversations ...
LOCATION:Kline\, College Room
URL:https://www.bard.edu/inside/calendar/event/?eid=140162
END:VEVENT
BEGIN:VEVENT
UID:140169_1776830400_calendar@www.bard.edu
DTSTART;TZID=America/New_York:20260422T143000
DTEND;TZID=America/New_York:20260422T153000
CATEGORIES:Language Table/Division of Languages and Literature/Division of Languages and Literature/German Studies Program
SUMMARY:German Table
DESCRIPTION:Please join us weekly. Stay for as long as you like.\nLanguage tables are held at Kline and entail about an hour of casual discussion during meal times, where students interested in a language get to know each other and practice colloquial conversations ...
LOCATION:Kline Commons
URL:https://www.bard.edu/inside/calendar/event/?eid=140169
END:VEVENT
BEGIN:VEVENT
UID:152012_1776830400_calendar@www.bard.edu
DTSTART;TZID=America/New_York:20260422T170000
DTEND;TZID=America/New_York:20260423T000000
CATEGORIES:Bard Events/Division of Languages and Literature/Literature Program
SUMMARY:Literature Open House
DESCRIPTION:Please join us for the Literature Program's Spring Open House. The Open House will be an opportunity to meet Literature faculty, hear about next semester's courses, talk with Literature seniors and ...
LOCATION:Stevenson Library - 1st Floor
URL:https://www.bard.edu/inside/calendar/event/?eid=152012
END:VEVENT
BEGIN:VEVENT
UID:140165_1776830400_calendar@www.bard.edu
DTSTART;TZID=America/New_York:20260422T173000
DTEND;TZID=America/New_York:20260422T183000
CATEGORIES:Language Table/Division of Languages and Literature/Asian Studies Program/Chinese Studies Program/Division of Languages and Literature
SUMMARY:Chinese Table
DESCRIPTION:Please join us weekly. Stay for as long as you like.\nLanguage tables are held at Kline and entail about an hour of casual discussion during meal times, where students interested in a language get to know each other and practice colloquial conversations ...
LOCATION:Kline\, College Room
URL:https://www.bard.edu/inside/calendar/event/?eid=140165
END:VEVENT
BEGIN:VEVENT
UID:140133_1776916800_calendar@www.bard.edu
DTSTART;TZID=America/New_York:20260423T123000
DTEND;TZID=America/New_York:20260423T133000
CATEGORIES:Language Table/Division of Languages and Literature/Division of Languages and Literature/French Studies Program
SUMMARY:French Table
DESCRIPTION:Please join us weekly. Stay for as long as you like.\nLanguage tables are held at Kline and entail about an hour of casual discussion during meal times, where students interested in a language get to know each other and practice colloquial conversations ...
LOCATION:Kline\, College Room
URL:https://www.bard.edu/inside/calendar/event/?eid=140133
END:VEVENT
BEGIN:VEVENT
UID:140164_1776916800_calendar@www.bard.edu
DTSTART;TZID=America/New_York:20260423T133000
DTEND;TZID=America/New_York:20260423T143000
CATEGORIES:Language Table/Division of Languages and Literature/Division of Languages and Literature/Russian/Eurasian Studies Program
SUMMARY:Russian Table
DESCRIPTION:Please join us weekly. Stay for as long as you like.\nLanguage tables are held at Kline and entail about an hour of casual discussion during meal times, where students interested in a language get to know each other and practice colloquial conversations ...
LOCATION:Kline\, College Room
URL:https://www.bard.edu/inside/calendar/event/?eid=140164
END:VEVENT
BEGIN:VEVENT
UID:140163_1777262400_calendar@www.bard.edu
DTSTART;TZID=America/New_York:20260427T180000
DTEND;TZID=America/New_York:20260427T190000
CATEGORIES:Language Table/Division of Languages and Literature/Division of Languages and Literature/Spanish Studies
SUMMARY:Spanish Table
DESCRIPTION:Please join us weekly. Stay for as long as you like.\nLanguage tables are held at Kline and entail about an hour of casual discussion during meal times, where students interested in a language get to know each other and practice colloquial conversations ...
LOCATION:Kline\, College Room
URL:https://www.bard.edu/inside/calendar/event/?eid=140163
END:VEVENT
BEGIN:VEVENT
UID:136454_1777348800_calendar@www.bard.edu
DTSTART;TZID=America/New_York:20260428T130000
DTEND;TZID=America/New_York:20260428T143000
CATEGORIES:Language Table/Division of Languages and Literature/Division of Languages and Literature/Italian Studies Program
SUMMARY:Italian Table
DESCRIPTION:Please join us weekly. Stay for as long as you like.\nLanguage tables are held at Kline and entail about an hour of casual discussion during meal times, where students interested in a language get to know each other and practice colloquial conversations ...
LOCATION:Kline\, College Room
URL:https://www.bard.edu/inside/calendar/event/?eid=136454
END:VEVENT
BEGIN:VEVENT
UID:140575_1777348800_calendar@www.bard.edu
DTSTART;TZID=America/New_York:20260428T133000
DTEND;TZID=America/New_York:20260428T143000
CATEGORIES:Language Table/Division of Languages and Literature/Division of Languages and Literature/Jewish Studies Program
SUMMARY:Jewish Languages Table
DESCRIPTION:Please join us weekly and stay as long as you like.\nLanguage tables are held at Kline and entail about an hour of casual discussion during meal times, where students interested in a language get to know each other and practice colloquial conversations ...
LOCATION:Kline Commons
URL:https://www.bard.edu/inside/calendar/event/?eid=140575
END:VEVENT
BEGIN:VEVENT
UID:144778_1777348800_calendar@www.bard.edu
DTSTART;TZID=America/New_York:20260428T170000
DTEND;TZID=America/New_York:20260428T180000
CATEGORIES:Language Table/Division of Languages and Literature/Asian Studies Program/Division of Languages and Literature
SUMMARY:Korean Table
DESCRIPTION:Please join us weekly. Stay for as long as you like.\nLanguage tables are held at Kline and entail about an hour of casual discussion during meal times, where students interested in a language get to know each other and practice colloquial conversations ...
LOCATION:Kline\, College Room
URL:https://www.bard.edu/inside/calendar/event/?eid=144778
END:VEVENT
BEGIN:VEVENT
UID:153023_1777348800_calendar@www.bard.edu
DTSTART;TZID=America/New_York:20260428T173000
DTEND;TZID=America/New_York:20260429T000000
CATEGORIES:Information Session/Open House/Division of Languages and Literature/Middle Eastern Studies Program
SUMMARY:Middle Eastern Studies Open House
DESCRIPTION:Come meet faculty and students, learn about new courses and study abroad programs, and enjoy delicious snacks and sweets.
LOCATION:Olin Humanities\, Room 204
URL:https://www.bard.edu/inside/calendar/event/?eid=153023
END:VEVENT
BEGIN:VEVENT
UID:140130_1777348800_calendar@www.bard.edu
DTSTART;TZID=America/New_York:20260428T180000
DTEND;TZID=America/New_York:20260428T190000
CATEGORIES:Language Table/Division of Languages and Literature/Division of Languages and Literature/Middle Eastern Studies Program
SUMMARY:Arabic Table 
DESCRIPTION:Please join us weekly. Stay for as long as you like.\nLanguage tables are held at Kline and entail about an hour of casual discussion during meal times, where students interested in a language get to know each other and practice colloquial conversations ...
LOCATION:Kline\, College Room
URL:https://www.bard.edu/inside/calendar/event/?eid=140130
END:VEVENT
BEGIN:VEVENT
UID:140162_1777435200_calendar@www.bard.edu
DTSTART;TZID=America/New_York:20260429T120000
DTEND;TZID=America/New_York:20260429T130000
CATEGORIES:Language Table/Division of Languages and Literature/Asian Studies Program/Division of Languages and Literature
SUMMARY:Japanese Table
DESCRIPTION:Please join us weekly. Stay for as long as you like.\nLanguage tables are held at Kline and entail about an hour of casual discussion during meal times, where students interested in a language get to know each other and practice colloquial conversations ...
LOCATION:Kline\, College Room
URL:https://www.bard.edu/inside/calendar/event/?eid=140162
END:VEVENT
BEGIN:VEVENT
UID:140169_1777435200_calendar@www.bard.edu
DTSTART;TZID=America/New_York:20260429T143000
DTEND;TZID=America/New_York:20260429T153000
CATEGORIES:Language Table/Division of Languages and Literature/Division of Languages and Literature/German Studies Program
SUMMARY:German Table
DESCRIPTION:Please join us weekly. Stay for as long as you like.\nLanguage tables are held at Kline and entail about an hour of casual discussion during meal times, where students interested in a language get to know each other and practice colloquial conversations ...
LOCATION:Kline Commons
URL:https://www.bard.edu/inside/calendar/event/?eid=140169
END:VEVENT
BEGIN:VEVENT
UID:140165_1777435200_calendar@www.bard.edu
DTSTART;TZID=America/New_York:20260429T173000
DTEND;TZID=America/New_York:20260429T183000
CATEGORIES:Language Table/Division of Languages and Literature/Asian Studies Program/Chinese Studies Program/Division of Languages and Literature
SUMMARY:Chinese Table
DESCRIPTION:Please join us weekly. Stay for as long as you like.\nLanguage tables are held at Kline and entail about an hour of casual discussion during meal times, where students interested in a language get to know each other and practice colloquial conversations ...
LOCATION:Kline\, College Room
URL:https://www.bard.edu/inside/calendar/event/?eid=140165
END:VEVENT
BEGIN:VEVENT
UID:140133_1777521600_calendar@www.bard.edu
DTSTART;TZID=America/New_York:20260430T123000
DTEND;TZID=America/New_York:20260430T133000
CATEGORIES:Language Table/Division of Languages and Literature/Division of Languages and Literature/French Studies Program
SUMMARY:French Table
DESCRIPTION:Please join us weekly. Stay for as long as you like.\nLanguage tables are held at Kline and entail about an hour of casual discussion during meal times, where students interested in a language get to know each other and practice colloquial conversations ...
LOCATION:Kline\, College Room
URL:https://www.bard.edu/inside/calendar/event/?eid=140133
END:VEVENT
BEGIN:VEVENT
UID:140164_1777521600_calendar@www.bard.edu
DTSTART;TZID=America/New_York:20260430T133000
DTEND;TZID=America/New_York:20260430T143000
CATEGORIES:Language Table/Division of Languages and Literature/Division of Languages and Literature/Russian/Eurasian Studies Program
SUMMARY:Russian Table
DESCRIPTION:Please join us weekly. Stay for as long as you like.\nLanguage tables are held at Kline and entail about an hour of casual discussion during meal times, where students interested in a language get to know each other and practice colloquial conversations ...
LOCATION:Kline\, College Room
URL:https://www.bard.edu/inside/calendar/event/?eid=140164
END:VEVENT
BEGIN:VEVENT
UID:152170_1777867200_calendar@www.bard.edu
DTSTART;TZID=America/New_York:20260504T170000
DTEND;TZID=America/New_York:20260505T000000
CATEGORIES:Film/Division of Languages and Literature
SUMMARY:Albertine French Film Festival: Orlando
DESCRIPTION:Director: Paul B. Preciado, 2023, 1h38 min.\nAcademic virtuoso turned filmmaker Paul B. Preciado's Berlin Film Festival award-winning doc tells his and others' stories of transition through unique reenactments and visual interpretations of ...
LOCATION:Bertelsmann Campus Center\, Weis Cinema
URL:https://www.bard.edu/inside/calendar/event/?eid=152170
END:VEVENT
BEGIN:VEVENT
UID:140163_1777867200_calendar@www.bard.edu
DTSTART;TZID=America/New_York:20260504T180000
DTEND;TZID=America/New_York:20260504T190000
CATEGORIES:Language Table/Division of Languages and Literature/Division of Languages and Literature/Spanish Studies
SUMMARY:Spanish Table
DESCRIPTION:Please join us weekly. Stay for as long as you like.\nLanguage tables are held at Kline and entail about an hour of casual discussion during meal times, where students interested in a language get to know each other and practice colloquial conversations ...
LOCATION:Kline\, College Room
URL:https://www.bard.edu/inside/calendar/event/?eid=140163
END:VEVENT
BEGIN:VEVENT
UID:136454_1777953600_calendar@www.bard.edu
DTSTART;TZID=America/New_York:20260505T130000
DTEND;TZID=America/New_York:20260505T143000
CATEGORIES:Language Table/Division of Languages and Literature/Division of Languages and Literature/Italian Studies Program
SUMMARY:Italian Table
DESCRIPTION:Please join us weekly. Stay for as long as you like.\nLanguage tables are held at Kline and entail about an hour of casual discussion during meal times, where students interested in a language get to know each other and practice colloquial conversations ...
LOCATION:Kline\, College Room
URL:https://www.bard.edu/inside/calendar/event/?eid=136454
END:VEVENT
BEGIN:VEVENT
UID:140575_1777953600_calendar@www.bard.edu
DTSTART;TZID=America/New_York:20260505T133000
DTEND;TZID=America/New_York:20260505T143000
CATEGORIES:Language Table/Division of Languages and Literature/Division of Languages and Literature/Jewish Studies Program
SUMMARY:Jewish Languages Table
DESCRIPTION:Please join us weekly and stay as long as you like.\nLanguage tables are held at Kline and entail about an hour of casual discussion during meal times, where students interested in a language get to know each other and practice colloquial conversations ...
LOCATION:Kline Commons
URL:https://www.bard.edu/inside/calendar/event/?eid=140575
END:VEVENT
BEGIN:VEVENT
UID:144778_1777953600_calendar@www.bard.edu
DTSTART;TZID=America/New_York:20260505T170000
DTEND;TZID=America/New_York:20260505T180000
CATEGORIES:Language Table/Division of Languages and Literature/Asian Studies Program/Division of Languages and Literature
SUMMARY:Korean Table
DESCRIPTION:Please join us weekly. Stay for as long as you like.\nLanguage tables are held at Kline and entail about an hour of casual discussion during meal times, where students interested in a language get to know each other and practice colloquial conversations ...
LOCATION:Kline\, College Room
URL:https://www.bard.edu/inside/calendar/event/?eid=144778
END:VEVENT
BEGIN:VEVENT
UID:140130_1777953600_calendar@www.bard.edu
DTSTART;TZID=America/New_York:20260505T180000
DTEND;TZID=America/New_York:20260505T190000
CATEGORIES:Language Table/Division of Languages and Literature/Division of Languages and Literature/Middle Eastern Studies Program
SUMMARY:Arabic Table 
DESCRIPTION:Please join us weekly. Stay for as long as you like.\nLanguage tables are held at Kline and entail about an hour of casual discussion during meal times, where students interested in a language get to know each other and practice colloquial conversations ...
LOCATION:Kline\, College Room
URL:https://www.bard.edu/inside/calendar/event/?eid=140130
END:VEVENT
BEGIN:VEVENT
UID:140162_1778040000_calendar@www.bard.edu
DTSTART;TZID=America/New_York:20260506T120000
DTEND;TZID=America/New_York:20260506T130000
CATEGORIES:Language Table/Division of Languages and Literature/Asian Studies Program/Division of Languages and Literature
SUMMARY:Japanese Table
DESCRIPTION:Please join us weekly. Stay for as long as you like.\nLanguage tables are held at Kline and entail about an hour of casual discussion during meal times, where students interested in a language get to know each other and practice colloquial conversations ...
LOCATION:Kline\, College Room
URL:https://www.bard.edu/inside/calendar/event/?eid=140162
END:VEVENT
BEGIN:VEVENT
UID:140169_1778040000_calendar@www.bard.edu
DTSTART;TZID=America/New_York:20260506T143000
DTEND;TZID=America/New_York:20260506T153000
CATEGORIES:Language Table/Division of Languages and Literature/Division of Languages and Literature/German Studies Program
SUMMARY:German Table
DESCRIPTION:Please join us weekly. Stay for as long as you like.\nLanguage tables are held at Kline and entail about an hour of casual discussion during meal times, where students interested in a language get to know each other and practice colloquial conversations ...
LOCATION:Kline Commons
URL:https://www.bard.edu/inside/calendar/event/?eid=140169
END:VEVENT
BEGIN:VEVENT
UID:140165_1778040000_calendar@www.bard.edu
DTSTART;TZID=America/New_York:20260506T173000
DTEND;TZID=America/New_York:20260506T183000
CATEGORIES:Language Table/Division of Languages and Literature/Asian Studies Program/Chinese Studies Program/Division of Languages and Literature
SUMMARY:Chinese Table
DESCRIPTION:Please join us weekly. Stay for as long as you like.\nLanguage tables are held at Kline and entail about an hour of casual discussion during meal times, where students interested in a language get to know each other and practice colloquial conversations ...
LOCATION:Kline\, College Room
URL:https://www.bard.edu/inside/calendar/event/?eid=140165
END:VEVENT
BEGIN:VEVENT
UID:140133_1778126400_calendar@www.bard.edu
DTSTART;TZID=America/New_York:20260507T123000
DTEND;TZID=America/New_York:20260507T133000
CATEGORIES:Language Table/Division of Languages and Literature/Division of Languages and Literature/French Studies Program
SUMMARY:French Table
DESCRIPTION:Please join us weekly. Stay for as long as you like.\nLanguage tables are held at Kline and entail about an hour of casual discussion during meal times, where students interested in a language get to know each other and practice colloquial conversations ...
LOCATION:Kline\, College Room
URL:https://www.bard.edu/inside/calendar/event/?eid=140133
END:VEVENT
END:VCALENDAR