BEGIN:VCALENDAR
VERSION:2.0
PRODID:-//Bard College//Calendars//EN
BEGIN:VTIMEZONE
TZID:America/New_York
X-LIC-LOCATION:America/New_York
BEGIN:DAYLIGHT
TZOFFSETFROM:-0500
TZOFFSETTO:-0400
TZNAME:EDT
DTSTART:19700308T020000
RRULE:FREQ=YEARLY;BYMONTH=3;BYDAY=2SU
END:DAYLIGHT
BEGIN:STANDARD
TZOFFSETFROM:-0400
TZOFFSETTO:-0500
TZNAME:EST
DTSTART:19701101T020000
RRULE:FREQ=YEARLY;BYMONTH=11;BYDAY=1SU
END:STANDARD
END:VTIMEZONE
BEGIN:VEVENT
UID:153023_1777348800_calendar@www.bard.edu
DTSTART;TZID=America/New_York:20260428T173000
DTEND;TZID=America/New_York:20260429T000000
CATEGORIES:Information Session/Open House/Division of Languages and Literature/Middle Eastern Studies Program
SUMMARY:Middle Eastern Studies Open House
DESCRIPTION:Come meet faculty and students, learn about new courses and study abroad programs, and enjoy delicious snacks and sweets.
LOCATION:Olin Humanities\, Room 204
URL:https://www.bard.edu/inside/calendar/event/?eid=153023
END:VEVENT
END:VCALENDAR