BEGIN:VCALENDAR
VERSION:2.0
PRODID:-//Bard College//Calendars//EN
BEGIN:VTIMEZONE
TZID:America/New_York
X-LIC-LOCATION:America/New_York
BEGIN:DAYLIGHT
TZOFFSETFROM:-0500
TZOFFSETTO:-0400
TZNAME:EDT
DTSTART:19700308T020000
RRULE:FREQ=YEARLY;BYMONTH=3;BYDAY=2SU
END:DAYLIGHT
BEGIN:STANDARD
TZOFFSETFROM:-0400
TZOFFSETTO:-0500
TZNAME:EST
DTSTART:19701101T020000
RRULE:FREQ=YEARLY;BYMONTH=11;BYDAY=1SU
END:STANDARD
END:VTIMEZONE
BEGIN:VEVENT
UID:153242_1776916800_calendar@www.bard.edu
DTSTART;TZID=America/New_York:20260423T000000
DTEND;TZID=America/New_York:20260514T000000
CATEGORIES:Spring Events/Event
SUMMARY:BA Thesis Presentations Spring 2026
DESCRIPTION:This semester's Senior Thesis Presentations are taking place from April 21 to May 13. The presentations are an essential step towards graduation for every senior, and they are an established ...
LOCATION:Multiple Locations
END:VEVENT
END:VCALENDAR