BEGIN:VCALENDAR
VERSION:2.0
PRODID:-//Bard College//Calendars//EN
BEGIN:VTIMEZONE
TZID:America/New_York
X-LIC-LOCATION:America/New_York
BEGIN:DAYLIGHT
TZOFFSETFROM:-0500
TZOFFSETTO:-0400
TZNAME:EDT
DTSTART:19700308T020000
RRULE:FREQ=YEARLY;BYMONTH=3;BYDAY=2SU
END:DAYLIGHT
BEGIN:STANDARD
TZOFFSETFROM:-0400
TZOFFSETTO:-0500
TZNAME:EST
DTSTART:19701101T020000
RRULE:FREQ=YEARLY;BYMONTH=11;BYDAY=1SU
END:STANDARD
END:VTIMEZONE
BEGIN:VEVENT
UID:152641_1777003200_calendar@www.bard.edu
DTSTART;TZID=America/New_York:20260424T120000
DTEND;TZID=America/New_York:20260425T000000
CATEGORIES:Seminar/Division of Science, Math, and Computing/Physics Program
SUMMARY:Hall effects: Topological Physics in Quantum Materials
DESCRIPTION:Zachariah Addison, Wellesley College\nHere we explore the role of topology in the understanding of quantum phases of matter.  We explore how these mathematical ideas impact the understanding of material properties by looking at quantum ...
LOCATION:Brody Lab - Hegeman 107
URL:https://www.bard.edu/inside/calendar/event/?eid=152641
END:VEVENT
END:VCALENDAR