BEGIN:VCALENDAR
VERSION:2.0
PRODID:-//Bard College//Calendars//EN
BEGIN:VTIMEZONE
TZID:America/New_York
X-LIC-LOCATION:America/New_York
BEGIN:DAYLIGHT
TZOFFSETFROM:-0500
TZOFFSETTO:-0400
TZNAME:EDT
DTSTART:19700308T020000
RRULE:FREQ=YEARLY;BYMONTH=3;BYDAY=2SU
END:DAYLIGHT
BEGIN:STANDARD
TZOFFSETFROM:-0400
TZOFFSETTO:-0500
TZNAME:EST
DTSTART:19701101T020000
RRULE:FREQ=YEARLY;BYMONTH=11;BYDAY=1SU
END:STANDARD
END:VTIMEZONE
BEGIN:VEVENT
UID:153203_1776744000_calendar@www.bard.edu
DTSTART;TZID=America/New_York:20260421T173000
DTEND;TZID=America/New_York:20260421T193000
CATEGORIES:Lecture/Economics and Finance Program/Bard Center for Environmental Policy/Bard MBA in Sustainability/Economics and Finance Program/Hannah Arendt Center
SUMMARY:Investing with Purpose
DESCRIPTION:Intentional Endowments and Impact Investing with Iman Abdullah\nRethinking Bard’s billion dollar opportunity: How can students meaningfully engage with colleges and universities about endowments and investments that both reflect shared values, and maximize ...
LOCATION:Barringer House; Barringer House - Rear Global Classroom (Room 104)
URL:https://www.bard.edu/inside/calendar/event/?eid=153203
END:VEVENT
END:VCALENDAR