BEGIN:VCALENDAR
VERSION:2.0
PRODID:-//Bard College//Calendars//EN
BEGIN:VTIMEZONE
TZID:America/New_York
X-LIC-LOCATION:America/New_York
BEGIN:DAYLIGHT
TZOFFSETFROM:-0500
TZOFFSETTO:-0400
TZNAME:EDT
DTSTART:19700308T020000
RRULE:FREQ=YEARLY;BYMONTH=3;BYDAY=2SU
END:DAYLIGHT
BEGIN:STANDARD
TZOFFSETFROM:-0400
TZOFFSETTO:-0500
TZNAME:EST
DTSTART:19701101T020000
RRULE:FREQ=YEARLY;BYMONTH=11;BYDAY=1SU
END:STANDARD
END:VTIMEZONE
BEGIN:VEVENT
UID:151791_1786075200_calendar@www.bard.edu
DTSTART;TZID=America/New_York:20260807T090000
DTEND;TZID=America/New_York:20260807T140000
CATEGORIES:Academic Deadline/Academics/Registrar's Office
SUMMARY:Arrival Day, Check-in, and Financial Clearance for all other new First-Year Students
DESCRIPTION:(New students will check in and get their IDs and keys)
LOCATION:Reem-Kayden Center
URL:https://www.bard.edu/inside/calendar/event/?eid=151791
END:VEVENT
BEGIN:VEVENT
UID:151794_1787284800_calendar@www.bard.edu
DTSTART;TZID=America/New_York:20260821T090000
DTEND;TZID=America/New_York:20260821T120000
CATEGORIES:Academic Deadline/Academics/Registrar's Office
SUMMARY:Arrival Day, Check-in, and Financial Clearance for All New Transfer Students 
DESCRIPTION:(Check in with the Deans of Students, Dean of Studies, Residence Life, Health Services, and the Center for Civic Engagement as your first stop before launching into an activity-filled move-in ...
LOCATION:Reem-Kayden Center
URL:https://www.bard.edu/inside/calendar/event/?eid=151794
END:VEVENT
BEGIN:VEVENT
UID:151795_1787544000_calendar@www.bard.edu
DTSTART;TZID=America/New_York:20260824T090000
DTEND;TZID=America/New_York:20260826T153000
CATEGORIES:Academic Deadline/Academics/Registrar's Office
SUMMARY:Transfer Student Language and Thinking Program
LOCATION:Bard College Campus
URL:https://www.bard.edu/inside/calendar/event/?eid=151795
END:VEVENT
END:VCALENDAR